BEGIN:VCALENDAR
VERSION:2.0
PRODID:-//Vernieuwend Leiderschap - ECPv6.0.6.2//NONSGML v1.0//EN
CALSCALE:GREGORIAN
METHOD:PUBLISH
X-WR-CALNAME:Vernieuwend Leiderschap
X-ORIGINAL-URL:https://vernieuwendleiderschap.nl
X-WR-CALDESC:Events for Vernieuwend Leiderschap
REFRESH-INTERVAL;VALUE=DURATION:PT1H
X-Robots-Tag:noindex
X-PUBLISHED-TTL:PT1H
BEGIN:VTIMEZONE
TZID:UTC
BEGIN:STANDARD
TZOFFSETFROM:+0000
TZOFFSETTO:+0000
TZNAME:UTC
DTSTART:20210101T000000
END:STANDARD
END:VTIMEZONE
BEGIN:VEVENT
DTSTART;VALUE=DATE:20211216
DTEND;VALUE=DATE:20211217
DTSTAMP:20260422T215010
CREATED:20181017T124025Z
LAST-MODIFIED:20230112T174156Z
UID:81-1639612800-1639699199@vernieuwendleiderschap.nl
SUMMARY:Dr. Toby Lowe\, Human Learning Systems\, Public Service for the Real World
DESCRIPTION:Bekijk de video hier: \n \n  \nDr. Toby Lowe is Senior Lecturer in Public Leadership and Management Department: Newcastle Business School. His purpose as an academic is to help improve the funding\, commissioning and performance management of social interventions (across the public\, private and voluntary sectors). His research team has used complexity theory to create a critique of New Public Management approaches and articulated a complexity-informed alternative: Human Learning Systems. The newly launched ebook sets out an alternative approach based on being human\, continuously learning and nurturing healthy systems. It provides a resource and guide for organisations or teams working in public service who want to adopt these new ways of working and provides practical examples and inspiration based on 50 case studies from across the UK and beyond.
URL:https://vernieuwendleiderschap.nl/event/medical-conferences-usa-2019/
LOCATION:Noord Brabant
CATEGORIES:CoCo
ATTACH;FMTTYPE=image/png:https://vernieuwendleiderschap.nl/wp-content/uploads/2018/10/humanlearning.png
END:VEVENT
BEGIN:VEVENT
DTSTART;TZID=UTC:20230113T080000
DTEND;TZID=UTC:20230113T170000
DTSTAMP:20260422T215010
CREATED:20230113T132912Z
LAST-MODIFIED:20230118T120845Z
UID:1592-1673596800-1673629200@vernieuwendleiderschap.nl
SUMMARY:Professor Geert Teisman (EUR) 'Over de bijdrage van de complexiteitswetenschap aan bestuur en bestuurskunde’ en over ‘Het belang van een attractieve visie’
DESCRIPTION:Met Professor Geert Teisman van de Erasmus universiteit Rotterdam\, professor in Complex Decision Making and Process Management\, gaan we in gesprek over het feit dat er niet meer beleid of harder beleid nodig is maar wel meer attractief beleid. Hij illustreert de EVENT-SEQUENTIE METHODE aan de hand van de Casus van Rotterdam met klimaattafels en dies meer.
URL:https://vernieuwendleiderschap.nl/event/professor-geert-teisman-eur/
LOCATION:BUAS\, Monseigneur Hopmansstraat 2\, Breda\, PA\, 4817 JS
CATEGORIES:CoCo
ATTACH;FMTTYPE=image/png:https://vernieuwendleiderschap.nl/wp-content/uploads/2023/01/Screenshot-2023-01-13-142827.png
END:VEVENT
END:VCALENDAR