BEGIN:VCALENDAR
VERSION:2.0
PRODID:-//Vernieuwend Leiderschap - ECPv6.0.6.2//NONSGML v1.0//EN
CALSCALE:GREGORIAN
METHOD:PUBLISH
X-WR-CALNAME:Vernieuwend Leiderschap
X-ORIGINAL-URL:https://vernieuwendleiderschap.nl
X-WR-CALDESC:Events for Vernieuwend Leiderschap
REFRESH-INTERVAL;VALUE=DURATION:PT1H
X-Robots-Tag:noindex
X-PUBLISHED-TTL:PT1H
BEGIN:VTIMEZONE
TZID:UTC
BEGIN:STANDARD
TZOFFSETFROM:+0000
TZOFFSETTO:+0000
TZNAME:UTC
DTSTART:20210101T000000
END:STANDARD
END:VTIMEZONE
BEGIN:VEVENT
DTSTART;TZID=UTC:20211118T183000
DTEND;TZID=UTC:20211118T203000
DTSTAMP:20260418T085332
CREATED:20181217T114507Z
LAST-MODIFIED:20230118T120819Z
UID:75-1637260200-1637267400@vernieuwendleiderschap.nl
SUMMARY:Professor Robert Geyer\, Governing Complexity in the 21st century
DESCRIPTION:Robert Geyer is a Professor in the Department of Politics\, Philosophy and Religion at Lancaster University (UK). His more recent works include: Handbook on Complexity and Public Policy (2015\, edited with Paul Cairney) and Complexity and Public Policy (2010\, co-authored with Samir Rihani). \nGoverning Complexity in the 21st Century surveys the ways in which social systems are becoming more complex. It shows how this complexity impacts every aspect of life for individuals\, governments and societies in most social systems at individual\, regional\, national and global scales and explores how embracing ‘complexity thinking’ can greatly improve the art of governance in all policy areas.
URL:https://vernieuwendleiderschap.nl/event/semestrial-webinar/
LOCATION:BUAS\, Monseigneur Hopmansstraat 2\, Breda\, PA\, 4817 JS
CATEGORIES:CoCo
ATTACH;FMTTYPE=image/png:https://vernieuwendleiderschap.nl/wp-content/uploads/2018/12/governing.png
END:VEVENT
END:VCALENDAR